BEGIN:VCALENDAR
VERSION:2.0
PRODID:-//মারকাযুদ দুরুস
CALSCALE:GREGORIAN
METHOD:PUBLISH
X-WR-CALNAME:মারকাযুদ দুরুস
X-ORIGINAL-URL:https://durus.us/event/somaponi2022-23/
X-WR-CALDESC:ইফতা সমাপনি অনুষ্ঠান ২০২২-২৩ (এ্যালবাম ও রেজাল্ট)
BEGIN:VEVENT
DTSTART:20230311T000000
DTEND:20230311T000000
SUMMARY:ইফতা সমাপনি অনুষ্ঠান ২০২২-২৩ (এ্যালবাম ও রেজাল্ট)
DESCRIPTION:-
LOCATION:মানিকনগর, ঢাকা 
END:VEVENT
END:VCALENDAR
