BEGIN:VCALENDAR
VERSION:2.0
PRODID:-//মারকাযুদ দুরুস
CALSCALE:GREGORIAN
METHOD:PUBLISH
X-WR-CALNAME:মারকাযুদ দুরুস
X-ORIGINAL-URL:https://durus.us/event/shomaponi2020/
X-WR-CALDESC:শিক্ষাবর্ষ সমাপনি অনুষ্ঠান ২০২০-২১ (এ্যালবাম ও রেজাল্ট)
BEGIN:VEVENT
DTSTART:20210823T140000
DTEND:20210823T210000
SUMMARY:শিক্ষাবর্ষ সমাপনি অনুষ্ঠান ২০২০-২১ (এ্যালবাম ও রেজাল্ট)
DESCRIPTION:-
LOCATION:প্রধান কার্যালয়, মানিকনগর, ঢাকা 
END:VEVENT
END:VCALENDAR
